Package: cqn Version: 1.46.0 Command: /Library/Frameworks/R.framework/Resources/bin/R CMD INSTALL cqn StartedAt: 2023-10-15 18:16:32 -0400 (Sun, 15 Oct 2023) EndedAt: 2023-10-15 18:16:45 -0400 (Sun, 15 Oct 2023) EllapsedTime: 12.8 seconds RetCode: 0 Status: OK