Package: cqn Version: 1.46.0 Command: /Library/Frameworks/R.framework/Resources/bin/R CMD check --install=check:cqn.install-out.txt --library=/Library/Frameworks/R.framework/Resources/library --no-vignettes --timings cqn_1.46.0.tar.gz StartedAt: 2023-10-17 12:33:59 -0400 (Tue, 17 Oct 2023) EndedAt: 2023-10-17 12:35:27 -0400 (Tue, 17 Oct 2023) EllapsedTime: 87.8 seconds RetCode: 0 Status: OK CheckDir: cqn.Rcheck Warnings: 0