Package: cqn Version: 1.46.0 Command: /Library/Frameworks/R.framework/Resources/bin/R CMD build --keep-empty-dirs --no-resave-data cqn StartedAt: 2023-10-16 00:28:23 -0400 (Mon, 16 Oct 2023) EndedAt: 2023-10-16 00:28:49 -0400 (Mon, 16 Oct 2023) EllapsedTime: 26.2 seconds RetCode: 0 Status: OK PackageFile: cqn_1.46.0.tar.gz PackageFileSize: 807.2 KiB