Package: cqn Version: 1.46.0 Command: rm -rf cqn.buildbin-libdir && mkdir cqn.buildbin-libdir && /Users/biocbuild/BBS/utils/build-universal.sh cqn_1.46.0.tar.gz /Library/Frameworks/R.framework/Resources/bin/R cqn.buildbin-libdir StartedAt: 2023-10-19 12:25:45 -0400 (Thu, 19 Oct 2023) EndedAt: 2023-10-19 12:26:03 -0400 (Thu, 19 Oct 2023) EllapsedTime: 17.6 seconds RetCode: 0 Status: OK PackageFile: cqn_1.46.0.tgz PackageFileSize: 825.1 KiB