Package: convert Version: 1.76.0 Command: /Library/Frameworks/R.framework/Resources/bin/R CMD check --install=check:convert.install-out.txt --library=/Library/Frameworks/R.framework/Resources/library --no-vignettes --timings convert_1.76.0.tar.gz StartedAt: 2023-10-17 11:48:27 -0400 (Tue, 17 Oct 2023) EndedAt: 2023-10-17 11:49:33 -0400 (Tue, 17 Oct 2023) EllapsedTime: 65.9 seconds RetCode: 0 Status: OK CheckDir: convert.Rcheck Warnings: 0