Package: convert Version: 1.76.0 Command: rm -rf convert.buildbin-libdir && mkdir convert.buildbin-libdir && /Users/biocbuild/BBS/utils/build-universal.sh convert_1.76.0.tar.gz /Library/Frameworks/R.framework/Resources/bin/R convert.buildbin-libdir StartedAt: 2023-10-19 12:22:05 -0400 (Thu, 19 Oct 2023) EndedAt: 2023-10-19 12:22:17 -0400 (Thu, 19 Oct 2023) EllapsedTime: 12.9 seconds RetCode: 0 Status: OK PackageFile: convert_1.76.0.tgz PackageFileSize: 181.9 KiB