git_url: https://git.bioconductor.org/packages/convert git_branch: RELEASE_3_17 git_last_commit: 2d6edb9 git_last_commit_date: 2023-04-25 09:40:23 -0400 (Tue, 25 Apr 2023) Package: convert Version: 1.76.0 Maintainer: Yee Hwa (Jean) Yang MaintainerEmail: jean at biostat.ucsf.edu