Package: contiBAIT Version: 1.28.0 Command: /Library/Frameworks/R.framework/Resources/bin/R CMD check --install=check:contiBAIT.install-out.txt --library=/Library/Frameworks/R.framework/Resources/library --no-vignettes --timings contiBAIT_1.28.0.tar.gz StartedAt: 2023-10-17 11:44:56 -0400 (Tue, 17 Oct 2023) EndedAt: 2023-10-17 11:54:24 -0400 (Tue, 17 Oct 2023) EllapsedTime: 568.1 seconds RetCode: 0 Status: WARNINGS CheckDir: contiBAIT.Rcheck Warnings: 1