Package: contiBAIT Version: 1.28.0 Command: rm -rf contiBAIT.buildbin-libdir && mkdir contiBAIT.buildbin-libdir && /Users/biocbuild/BBS/utils/build-universal.sh contiBAIT_1.28.0.tar.gz /Library/Frameworks/R.framework/Resources/bin/R contiBAIT.buildbin-libdir StartedAt: 2023-10-19 12:21:32 -0400 (Thu, 19 Oct 2023) EndedAt: 2023-10-19 12:24:28 -0400 (Thu, 19 Oct 2023) EllapsedTime: 176.0 seconds RetCode: 0 Status: OK PackageFile: contiBAIT_1.28.0.tgz PackageFileSize: 4.462 MiB