Package: consensus Version: 1.18.0 Command: /Library/Frameworks/R.framework/Resources/bin/R CMD INSTALL consensus StartedAt: 2023-10-15 15:21:48 -0400 (Sun, 15 Oct 2023) EndedAt: 2023-10-15 15:21:54 -0400 (Sun, 15 Oct 2023) EllapsedTime: 5.7 seconds RetCode: 0 Status: OK