Package: consensus Version: 1.18.0 Command: /Library/Frameworks/R.framework/Resources/bin/R CMD check --install=check:consensus.install-out.txt --library=/Library/Frameworks/R.framework/Resources/library --no-vignettes --timings consensus_1.18.0.tar.gz StartedAt: 2023-10-17 11:34:25 -0400 (Tue, 17 Oct 2023) EndedAt: 2023-10-17 11:35:20 -0400 (Tue, 17 Oct 2023) EllapsedTime: 55.8 seconds RetCode: 0 Status: OK CheckDir: consensus.Rcheck Warnings: 0