Package: cogena Version: 1.34.0 Command: /Library/Frameworks/R.framework/Resources/bin/R CMD INSTALL cogena StartedAt: 2023-10-15 18:02:29 -0400 (Sun, 15 Oct 2023) EndedAt: 2023-10-15 18:02:58 -0400 (Sun, 15 Oct 2023) EllapsedTime: 28.6 seconds RetCode: 0 Status: OK