Package: cn.farms Version: 1.48.0 Command: /Library/Frameworks/R.framework/Resources/bin/R CMD check --install=check:cn.farms.install-out.txt --library=/Library/Frameworks/R.framework/Resources/library --no-vignettes --timings cn.farms_1.48.0.tar.gz StartedAt: 2023-10-17 10:25:25 -0400 (Tue, 17 Oct 2023) EndedAt: 2023-10-17 10:31:01 -0400 (Tue, 17 Oct 2023) EllapsedTime: 335.9 seconds RetCode: 0 Status: OK CheckDir: cn.farms.Rcheck Warnings: 0