Package: cisPath Version: 1.40.0 Command: /Library/Frameworks/R.framework/Resources/bin/R CMD check --install=check:cisPath.install-out.txt --library=/Library/Frameworks/R.framework/Resources/library --no-vignettes --timings cisPath_1.40.0.tar.gz StartedAt: 2023-10-17 09:41:38 -0400 (Tue, 17 Oct 2023) EndedAt: 2023-10-17 09:42:30 -0400 (Tue, 17 Oct 2023) EllapsedTime: 51.6 seconds RetCode: 0 Status: WARNINGS CheckDir: cisPath.Rcheck Warnings: 2