Package: cghMCR Version: 1.58.0 Command: rm -rf cghMCR.buildbin-libdir && mkdir cghMCR.buildbin-libdir && /Users/biocbuild/BBS/utils/build-universal.sh cghMCR_1.58.0.tar.gz /Library/Frameworks/R.framework/Resources/bin/R cghMCR.buildbin-libdir StartedAt: 2023-10-19 11:58:49 -0400 (Thu, 19 Oct 2023) EndedAt: 2023-10-19 12:00:26 -0400 (Thu, 19 Oct 2023) EllapsedTime: 96.6 seconds RetCode: 0 Status: OK PackageFile: cghMCR_1.58.0.tgz PackageFileSize: 37.04 MiB