Package: ccmap Version: 1.26.0 Command: /Library/Frameworks/R.framework/Resources/bin/R CMD check --install=check:ccmap.install-out.txt --library=/Library/Frameworks/R.framework/Resources/library --no-vignettes --timings ccmap_1.26.0.tar.gz StartedAt: 2023-10-17 07:54:29 -0400 (Tue, 17 Oct 2023) EndedAt: 2023-10-17 07:59:44 -0400 (Tue, 17 Oct 2023) EllapsedTime: 315.2 seconds RetCode: 0 Status: WARNINGS CheckDir: ccmap.Rcheck Warnings: 1