Package: cbpManager Version: 1.8.4 Command: /Library/Frameworks/R.framework/Resources/bin/R CMD INSTALL cbpManager StartedAt: 2023-10-15 17:53:31 -0400 (Sun, 15 Oct 2023) EndedAt: 2023-10-15 17:53:53 -0400 (Sun, 15 Oct 2023) EllapsedTime: 22.1 seconds RetCode: 0 Status: OK