git_url: https://git.bioconductor.org/packages/cbpManager git_branch: RELEASE_3_17 git_last_commit: 74bbc0c git_last_commit_date: 2023-07-13 07:05:16 -0400 (Thu, 13 Jul 2023) Package: cbpManager Version: 1.8.4 Maintainer: Arsenij Ustjanzew MaintainerEmail: arsenij.ustjanzew at gmail.com