git_url: https://git.bioconductor.org/packages/cancerclass git_branch: RELEASE_3_17 git_last_commit: 7672fc0 git_last_commit_date: 2023-04-25 10:23:04 -0400 (Tue, 25 Apr 2023) Package: cancerclass Version: 1.44.0 Maintainer: Daniel Kosztyla MaintainerEmail: danielkossi at hotmail.com