Package: bugsigdbr Version: 1.6.6 Command: /Library/Frameworks/R.framework/Resources/bin/R CMD INSTALL bugsigdbr StartedAt: 2023-10-15 16:05:42 -0400 (Sun, 15 Oct 2023) EndedAt: 2023-10-15 16:05:47 -0400 (Sun, 15 Oct 2023) EllapsedTime: 4.8 seconds RetCode: 0 Status: OK