Package: bugsigdbr Version: 1.6.6 Command: /Library/Frameworks/R.framework/Resources/bin/R CMD check --install=check:bugsigdbr.install-out.txt --library=/Library/Frameworks/R.framework/Resources/library --no-vignettes --timings bugsigdbr_1.6.6.tar.gz StartedAt: 2023-10-17 06:57:20 -0400 (Tue, 17 Oct 2023) EndedAt: 2023-10-17 07:02:23 -0400 (Tue, 17 Oct 2023) EllapsedTime: 303.3 seconds RetCode: 0 Status: OK CheckDir: bugsigdbr.Rcheck Warnings: 0