Package: bugsigdbr Version: 1.6.6 Command: /Library/Frameworks/R.framework/Resources/bin/R CMD build --keep-empty-dirs --no-resave-data bugsigdbr StartedAt: 2023-10-15 22:29:04 -0400 (Sun, 15 Oct 2023) EndedAt: 2023-10-15 22:31:22 -0400 (Sun, 15 Oct 2023) EllapsedTime: 138.2 seconds RetCode: 0 Status: OK PackageFile: bugsigdbr_1.6.6.tar.gz PackageFileSize: 327.2 KiB