Package: bugsigdbr Version: 1.6.6 Command: rm -rf bugsigdbr.buildbin-libdir && mkdir bugsigdbr.buildbin-libdir && /Users/biocbuild/BBS/utils/build-universal.sh bugsigdbr_1.6.6.tar.gz /Library/Frameworks/R.framework/Resources/bin/R bugsigdbr.buildbin-libdir StartedAt: 2023-10-19 11:46:07 -0400 (Thu, 19 Oct 2023) EndedAt: 2023-10-19 11:46:13 -0400 (Thu, 19 Oct 2023) EllapsedTime: 5.7 seconds RetCode: 0 Status: OK PackageFile: bugsigdbr_1.6.6.tgz PackageFileSize: 357.5 KiB