git_url: https://git.bioconductor.org/packages/bugsigdbr git_branch: RELEASE_3_17 git_last_commit: eb39e10 git_last_commit_date: 2023-09-12 16:28:19 -0400 (Tue, 12 Sep 2023) Package: bugsigdbr Version: 1.6.6 Maintainer: Ludwig Geistlinger MaintainerEmail: ludwig.geistlinger at gmail.com