Package: biodbLipidmaps Version: 1.6.0 Command: /Library/Frameworks/R.framework/Resources/bin/R CMD check --install=check:biodbLipidmaps.install-out.txt --library=/Library/Frameworks/R.framework/Resources/library --no-vignettes --timings biodbLipidmaps_1.6.0.tar.gz StartedAt: 2023-10-17 05:44:14 -0400 (Tue, 17 Oct 2023) EndedAt: 2023-10-17 05:47:20 -0400 (Tue, 17 Oct 2023) EllapsedTime: 186.2 seconds RetCode: 0 Status: OK CheckDir: biodbLipidmaps.Rcheck Warnings: 0