Package: biodbLipidmaps Version: 1.6.0 Command: /Library/Frameworks/R.framework/Resources/bin/R CMD build --keep-empty-dirs --no-resave-data biodbLipidmaps StartedAt: 2023-10-15 22:07:31 -0400 (Sun, 15 Oct 2023) EndedAt: 2023-10-15 22:08:15 -0400 (Sun, 15 Oct 2023) EllapsedTime: 43.7 seconds RetCode: 0 Status: OK PackageFile: biodbLipidmaps_1.6.0.tar.gz PackageFileSize: 304.6 KiB