Package: biocViews Version: 1.68.2 Command: rm -rf biocViews.buildbin-libdir && mkdir biocViews.buildbin-libdir && /Users/biocbuild/BBS/utils/build-universal.sh biocViews_1.68.2.tar.gz /Library/Frameworks/R.framework/Resources/bin/R biocViews.buildbin-libdir StartedAt: 2023-10-19 11:35:43 -0400 (Thu, 19 Oct 2023) EndedAt: 2023-10-19 11:36:07 -0400 (Thu, 19 Oct 2023) EllapsedTime: 24.1 seconds RetCode: 0 Status: OK PackageFile: biocViews_1.68.2.tgz PackageFileSize: 879.7 KiB