Package: bioDist Version: 1.72.0 Command: /Library/Frameworks/R.framework/Resources/bin/R CMD INSTALL bioDist StartedAt: 2023-10-15 15:06:52 -0400 (Sun, 15 Oct 2023) EndedAt: 2023-10-15 15:06:57 -0400 (Sun, 15 Oct 2023) EllapsedTime: 5.4 seconds RetCode: 0 Status: OK