Package: bioDist Version: 1.72.0 Command: /Library/Frameworks/R.framework/Resources/bin/R CMD check --install=check:bioDist.install-out.txt --library=/Library/Frameworks/R.framework/Resources/library --no-vignettes --timings bioDist_1.72.0.tar.gz StartedAt: 2023-10-17 05:48:20 -0400 (Tue, 17 Oct 2023) EndedAt: 2023-10-17 05:48:59 -0400 (Tue, 17 Oct 2023) EllapsedTime: 38.9 seconds RetCode: 0 Status: OK CheckDir: bioDist.Rcheck Warnings: 0