Package: bioDist Version: 1.72.0 Command: /Library/Frameworks/R.framework/Resources/bin/R CMD build --keep-empty-dirs --no-resave-data bioDist StartedAt: 2023-10-15 22:08:58 -0400 (Sun, 15 Oct 2023) EndedAt: 2023-10-15 22:09:21 -0400 (Sun, 15 Oct 2023) EllapsedTime: 22.6 seconds RetCode: 0 Status: OK PackageFile: bioDist_1.72.0.tar.gz PackageFileSize: 204.4 KiB