Package: bcSeq Version: 1.22.0 Command: /Library/Frameworks/R.framework/Resources/bin/R CMD build --keep-empty-dirs --no-resave-data bcSeq StartedAt: 2023-10-15 21:28:12 -0400 (Sun, 15 Oct 2023) EndedAt: 2023-10-15 21:31:27 -0400 (Sun, 15 Oct 2023) EllapsedTime: 194.9 seconds RetCode: 0 Status: OK PackageFile: bcSeq_1.22.0.tar.gz PackageFileSize: 241 KiB