git_url: https://git.bioconductor.org/packages/autonomics git_branch: RELEASE_3_17 git_last_commit: d84d5f1 git_last_commit_date: 2023-04-25 11:27:21 -0400 (Tue, 25 Apr 2023) Package: autonomics Version: 1.8.0 Maintainer: Aditya Bhagwat MaintainerEmail: aditya.bhagwat at uni-marburg.de