Package: aroma.light Version: 3.30.0 Command: /Library/Frameworks/R.framework/Resources/bin/R CMD build --keep-empty-dirs --no-resave-data aroma.light StartedAt: 2023-10-15 20:49:53 -0400 (Sun, 15 Oct 2023) EndedAt: 2023-10-15 20:49:55 -0400 (Sun, 15 Oct 2023) EllapsedTime: 2.2 seconds RetCode: 0 Status: OK PackageFile: aroma.light_3.30.0.tar.gz PackageFileSize: 379.1 KiB