Package: antiProfiles Version: 1.40.0 Command: /Library/Frameworks/R.framework/Resources/bin/R CMD build --keep-empty-dirs --no-resave-data antiProfiles StartedAt: 2023-10-15 20:46:35 -0400 (Sun, 15 Oct 2023) EndedAt: 2023-10-15 20:46:47 -0400 (Sun, 15 Oct 2023) EllapsedTime: 11.7 seconds RetCode: 0 Status: OK PackageFile: antiProfiles_1.40.0.tar.gz PackageFileSize: 110.6 KiB