Package: annotate Version: 1.78.0 Command: rm -rf annotate.buildbin-libdir && mkdir annotate.buildbin-libdir && /Users/biocbuild/BBS/utils/build-universal.sh annotate_1.78.0.tar.gz /Library/Frameworks/R.framework/Resources/bin/R annotate.buildbin-libdir StartedAt: 2023-10-19 11:12:39 -0400 (Thu, 19 Oct 2023) EndedAt: 2023-10-19 11:13:28 -0400 (Thu, 19 Oct 2023) EllapsedTime: 49.3 seconds RetCode: 0 Status: OK PackageFile: annotate_1.78.0.tgz PackageFileSize: 1.827 MiB