Package: alabaster.string Version: 1.0.1 Command: /Library/Frameworks/R.framework/Resources/bin/R CMD check --install=check:alabaster.string.install-out.txt --library=/Library/Frameworks/R.framework/Resources/library --no-vignettes --timings alabaster.string_1.0.1.tar.gz StartedAt: 2023-10-17 01:46:19 -0400 (Tue, 17 Oct 2023) EndedAt: 2023-10-17 01:48:41 -0400 (Tue, 17 Oct 2023) EllapsedTime: 141.9 seconds RetCode: 0 Status: OK CheckDir: alabaster.string.Rcheck Warnings: 0