Package: alabaster.bumpy Version: 1.0.0 Command: /Library/Frameworks/R.framework/Resources/bin/R CMD check --install=check:alabaster.bumpy.install-out.txt --library=/Library/Frameworks/R.framework/Resources/library --no-vignettes --timings alabaster.bumpy_1.0.0.tar.gz StartedAt: 2023-10-17 01:40:21 -0400 (Tue, 17 Oct 2023) EndedAt: 2023-10-17 01:42:59 -0400 (Tue, 17 Oct 2023) EllapsedTime: 157.9 seconds RetCode: 0 Status: OK CheckDir: alabaster.bumpy.Rcheck Warnings: 0