Package: affycomp Version: 1.76.1 Command: /Library/Frameworks/R.framework/Resources/bin/R CMD check --install=check:affycomp.install-out.txt --library=/Library/Frameworks/R.framework/Resources/library --no-vignettes --timings affycomp_1.76.1.tar.gz StartedAt: 2023-10-17 01:22:44 -0400 (Tue, 17 Oct 2023) EndedAt: 2023-10-17 01:23:41 -0400 (Tue, 17 Oct 2023) EllapsedTime: 57.2 seconds RetCode: 0 Status: OK CheckDir: affycomp.Rcheck Warnings: 0