Package: Wrench Version: 1.18.0 Command: rm -rf Wrench.buildbin-libdir && mkdir Wrench.buildbin-libdir && /Users/biocbuild/BBS/utils/build-universal.sh Wrench_1.18.0.tar.gz /Library/Frameworks/R.framework/Resources/bin/R Wrench.buildbin-libdir StartedAt: 2023-10-19 18:11:01 -0400 (Thu, 19 Oct 2023) EndedAt: 2023-10-19 18:11:09 -0400 (Thu, 19 Oct 2023) EllapsedTime: 7.8 seconds RetCode: 0 Status: OK PackageFile: Wrench_1.18.0.tgz PackageFileSize: 265 KiB