Package: UniProt.ws Version: 2.40.1 Command: /Library/Frameworks/R.framework/Resources/bin/R CMD INSTALL UniProt.ws StartedAt: 2023-10-15 16:44:07 -0400 (Sun, 15 Oct 2023) EndedAt: 2023-10-15 16:44:39 -0400 (Sun, 15 Oct 2023) EllapsedTime: 32.5 seconds RetCode: 0 Status: OK