Package: UniProt.ws Version: 2.40.1 Command: /Library/Frameworks/R.framework/Resources/bin/R CMD build --keep-empty-dirs --no-resave-data UniProt.ws StartedAt: 2023-10-17 00:11:00 -0400 (Tue, 17 Oct 2023) EndedAt: 2023-10-17 00:12:01 -0400 (Tue, 17 Oct 2023) EllapsedTime: 61.4 seconds RetCode: 0 Status: OK PackageFile: UniProt.ws_2.40.1.tar.gz PackageFileSize: 236 KiB