Package: UniProt.ws Version: 2.40.1 Command: rm -rf UniProt.ws.buildbin-libdir && mkdir UniProt.ws.buildbin-libdir && /Users/biocbuild/BBS/utils/build-universal.sh UniProt.ws_2.40.1.tar.gz /Library/Frameworks/R.framework/Resources/bin/R UniProt.ws.buildbin-libdir StartedAt: 2023-10-19 18:02:04 -0400 (Thu, 19 Oct 2023) EndedAt: 2023-10-19 18:02:50 -0400 (Thu, 19 Oct 2023) EllapsedTime: 45.8 seconds RetCode: 0 Status: OK PackageFile: UniProt.ws_2.40.1.tgz PackageFileSize: 507.6 KiB