Package: TrajectoryGeometry Version: 1.8.0 Command: rm -rf TrajectoryGeometry.buildbin-libdir && mkdir TrajectoryGeometry.buildbin-libdir && /Users/biocbuild/BBS/utils/build-universal.sh TrajectoryGeometry_1.8.0.tar.gz /Library/Frameworks/R.framework/Resources/bin/R TrajectoryGeometry.buildbin-libdir StartedAt: 2023-10-19 17:54:15 -0400 (Thu, 19 Oct 2023) EndedAt: 2023-10-19 17:54:30 -0400 (Thu, 19 Oct 2023) EllapsedTime: 14.8 seconds RetCode: 0 Status: OK PackageFile: TrajectoryGeometry_1.8.0.tgz PackageFileSize: 1.253 MiB