Package: TnT Version: 1.22.0 Command: /Library/Frameworks/R.framework/Resources/bin/R CMD check --install=check:TnT.install-out.txt --library=/Library/Frameworks/R.framework/Resources/library --no-vignettes --timings TnT_1.22.0.tar.gz StartedAt: 2023-10-19 07:14:57 -0400 (Thu, 19 Oct 2023) EndedAt: 2023-10-19 07:18:29 -0400 (Thu, 19 Oct 2023) EllapsedTime: 211.6 seconds RetCode: 0 Status: OK CheckDir: TnT.Rcheck Warnings: 0