Package: TimiRGeN Version: 1.10.0 Command: /Library/Frameworks/R.framework/Resources/bin/R CMD check --install=check:TimiRGeN.install-out.txt --library=/Library/Frameworks/R.framework/Resources/library --no-vignettes --timings TimiRGeN_1.10.0.tar.gz StartedAt: 2023-10-19 07:02:50 -0400 (Thu, 19 Oct 2023) EndedAt: 2023-10-19 07:13:20 -0400 (Thu, 19 Oct 2023) EllapsedTime: 630.5 seconds RetCode: 1 Status: ERROR CheckDir: TimiRGeN.Rcheck Warnings: NA