Package: TimiRGeN Version: 1.10.0 Command: rm -rf TimiRGeN.buildbin-libdir && mkdir TimiRGeN.buildbin-libdir && /Users/biocbuild/BBS/utils/build-universal.sh TimiRGeN_1.10.0.tar.gz /Library/Frameworks/R.framework/Resources/bin/R TimiRGeN.buildbin-libdir StartedAt: 2023-10-19 17:50:44 -0400 (Thu, 19 Oct 2023) EndedAt: 2023-10-19 17:52:42 -0400 (Thu, 19 Oct 2023) EllapsedTime: 118.2 seconds RetCode: 0 Status: OK PackageFile: TimiRGeN_1.10.0.tgz PackageFileSize: 2.842 MiB