git_url: https://git.bioconductor.org/packages/TargetScore git_branch: RELEASE_3_17 git_last_commit: 8cfd383 git_last_commit_date: 2023-04-25 10:27:53 -0400 (Tue, 25 Apr 2023) Package: TargetScore Version: 1.38.0 Maintainer: Yue Li MaintainerEmail: yueli at cs.toronto.edu