Package: TSCAN Version: 1.38.0 Command: /Library/Frameworks/R.framework/Resources/bin/R CMD check --install=check:TSCAN.install-out.txt --library=/Library/Frameworks/R.framework/Resources/library --no-vignettes --timings TSCAN_1.38.0.tar.gz StartedAt: 2023-10-19 08:39:09 -0400 (Thu, 19 Oct 2023) EndedAt: 2023-10-19 08:46:23 -0400 (Thu, 19 Oct 2023) EllapsedTime: 434.1 seconds RetCode: 0 Status: WARNINGS CheckDir: TSCAN.Rcheck Warnings: 1