Package: TRONCO Version: 2.32.0 Command: rm -rf TRONCO.buildbin-libdir && mkdir TRONCO.buildbin-libdir && /Users/biocbuild/BBS/utils/build-universal.sh TRONCO_2.32.0.tar.gz /Library/Frameworks/R.framework/Resources/bin/R TRONCO.buildbin-libdir StartedAt: 2023-10-19 17:59:16 -0400 (Thu, 19 Oct 2023) EndedAt: 2023-10-19 17:59:53 -0400 (Thu, 19 Oct 2023) EllapsedTime: 37.1 seconds RetCode: 0 Status: OK PackageFile: TRONCO_2.32.0.tgz PackageFileSize: 4.591 MiB