git_url: https://git.bioconductor.org/packages/TRONCO git_branch: RELEASE_3_17 git_last_commit: f8dde58 git_last_commit_date: 2023-04-25 10:37:08 -0400 (Tue, 25 Apr 2023) Package: TRONCO Version: 2.32.0 Maintainer: Luca De Sano MaintainerEmail: luca.desano at gmail.com